BEGIN:VCALENDAR
VERSION:2.0
PRODID:-//Oficjalna strona Urzędu Miejskiego w Choszcznie - ECPv6.15.20//NONSGML v1.0//EN
CALSCALE:GREGORIAN
METHOD:PUBLISH
X-ORIGINAL-URL:https://choszczno.pl
X-WR-CALDESC:Wydarzenia dla Oficjalna strona Urzędu Miejskiego w Choszcznie
REFRESH-INTERVAL;VALUE=DURATION:PT1H
X-Robots-Tag:noindex
X-PUBLISHED-TTL:PT1H
BEGIN:VTIMEZONE
TZID:Europe/Warsaw
BEGIN:DAYLIGHT
TZOFFSETFROM:+0100
TZOFFSETTO:+0200
TZNAME:CEST
DTSTART:20200329T010000
END:DAYLIGHT
BEGIN:STANDARD
TZOFFSETFROM:+0200
TZOFFSETTO:+0100
TZNAME:CET
DTSTART:20201025T010000
END:STANDARD
BEGIN:DAYLIGHT
TZOFFSETFROM:+0100
TZOFFSETTO:+0200
TZNAME:CEST
DTSTART:20210328T010000
END:DAYLIGHT
BEGIN:STANDARD
TZOFFSETFROM:+0200
TZOFFSETTO:+0100
TZNAME:CET
DTSTART:20211031T010000
END:STANDARD
BEGIN:DAYLIGHT
TZOFFSETFROM:+0100
TZOFFSETTO:+0200
TZNAME:CEST
DTSTART:20220327T010000
END:DAYLIGHT
BEGIN:STANDARD
TZOFFSETFROM:+0200
TZOFFSETTO:+0100
TZNAME:CET
DTSTART:20221030T010000
END:STANDARD
END:VTIMEZONE
BEGIN:VEVENT
DTSTART;TZID=Europe/Warsaw:20210605T090000
DTEND;TZID=Europe/Warsaw:20210605T120000
DTSTAMP:20260422T155105
CREATED:20210308T140345Z
LAST-MODIFIED:20210512T071138Z
UID:17486-1622883600-1622894400@choszczno.pl
SUMMARY:9.00 - Zawody wędkarskie dla dzieci i młodzieży "XXVII Memoriał im. Odona Dłużyńskiego"
DESCRIPTION:
URL:https://choszczno.pl/kalendarz-wydarzen/9-00-zawody-dla-dzieci-i-mlodziezy-xxvii-memorial-im-odona-dluzynskiego/
END:VEVENT
END:VCALENDAR