BEGIN:VCALENDAR
VERSION:2.0
PRODID:-//Oficjalna strona Urzędu Miejskiego w Choszcznie - ECPv6.15.20//NONSGML v1.0//EN
CALSCALE:GREGORIAN
METHOD:PUBLISH
X-WR-CALNAME:Oficjalna strona Urzędu Miejskiego w Choszcznie
X-ORIGINAL-URL:https://choszczno.pl
X-WR-CALDESC:Wydarzenia dla Oficjalna strona Urzędu Miejskiego w Choszcznie
REFRESH-INTERVAL;VALUE=DURATION:PT1H
X-Robots-Tag:noindex
X-PUBLISHED-TTL:PT1H
BEGIN:VTIMEZONE
TZID:Europe/Warsaw
BEGIN:DAYLIGHT
TZOFFSETFROM:+0100
TZOFFSETTO:+0200
TZNAME:CEST
DTSTART:20200329T010000
END:DAYLIGHT
BEGIN:STANDARD
TZOFFSETFROM:+0200
TZOFFSETTO:+0100
TZNAME:CET
DTSTART:20201025T010000
END:STANDARD
BEGIN:DAYLIGHT
TZOFFSETFROM:+0100
TZOFFSETTO:+0200
TZNAME:CEST
DTSTART:20210328T010000
END:DAYLIGHT
BEGIN:STANDARD
TZOFFSETFROM:+0200
TZOFFSETTO:+0100
TZNAME:CET
DTSTART:20211031T010000
END:STANDARD
BEGIN:DAYLIGHT
TZOFFSETFROM:+0100
TZOFFSETTO:+0200
TZNAME:CEST
DTSTART:20220327T010000
END:DAYLIGHT
BEGIN:STANDARD
TZOFFSETFROM:+0200
TZOFFSETTO:+0100
TZNAME:CET
DTSTART:20221030T010000
END:STANDARD
END:VTIMEZONE
BEGIN:VEVENT
DTSTART;TZID=Europe/Warsaw:20210625T200000
DTEND;TZID=Europe/Warsaw:20210625T220000
DTSTAMP:20260420T180737
CREATED:20210624T090713Z
LAST-MODIFIED:20210624T090749Z
UID:18333-1624651200-1624658400@choszczno.pl
SUMMARY:20.00 - Kino pod chmurką film "Sara"
DESCRIPTION:plaża miejska w Choszcznie
URL:https://choszczno.pl/kalendarz-wydarzen/20-00-kino-pod-chmurka-film-sara/
ATTACH;FMTTYPE=image/jpeg:https://choszczno.pl/wp-content/uploads/2021/06/kino_2021_plaza_02.jpg
END:VEVENT
END:VCALENDAR