BEGIN:VCALENDAR
VERSION:2.0
PRODID:-//Oficjalna strona Urzędu Miejskiego w Choszcznie - ECPv6.15.20//NONSGML v1.0//EN
CALSCALE:GREGORIAN
METHOD:PUBLISH
X-ORIGINAL-URL:https://choszczno.pl
X-WR-CALDESC:Wydarzenia dla Oficjalna strona Urzędu Miejskiego w Choszcznie
REFRESH-INTERVAL;VALUE=DURATION:PT1H
X-Robots-Tag:noindex
X-PUBLISHED-TTL:PT1H
BEGIN:VTIMEZONE
TZID:Europe/Warsaw
BEGIN:DAYLIGHT
TZOFFSETFROM:+0100
TZOFFSETTO:+0200
TZNAME:CEST
DTSTART:20210328T010000
END:DAYLIGHT
BEGIN:STANDARD
TZOFFSETFROM:+0200
TZOFFSETTO:+0100
TZNAME:CET
DTSTART:20211031T010000
END:STANDARD
BEGIN:DAYLIGHT
TZOFFSETFROM:+0100
TZOFFSETTO:+0200
TZNAME:CEST
DTSTART:20220327T010000
END:DAYLIGHT
BEGIN:STANDARD
TZOFFSETFROM:+0200
TZOFFSETTO:+0100
TZNAME:CET
DTSTART:20221030T010000
END:STANDARD
BEGIN:DAYLIGHT
TZOFFSETFROM:+0100
TZOFFSETTO:+0200
TZNAME:CEST
DTSTART:20230326T010000
END:DAYLIGHT
BEGIN:STANDARD
TZOFFSETFROM:+0200
TZOFFSETTO:+0100
TZNAME:CET
DTSTART:20231029T010000
END:STANDARD
END:VTIMEZONE
BEGIN:VEVENT
DTSTART;TZID=Europe/Warsaw:20220904T110000
DTEND;TZID=Europe/Warsaw:20220904T113000
DTSTAMP:20260422T141512
CREATED:20220902T102043Z
LAST-MODIFIED:20220902T102044Z
UID:24907-1662289200-1662291000@choszczno.pl
SUMMARY:11.00 - XXIII Piknik kolarski Feliksa
DESCRIPTION:start Aleja Gwiazd Kolarstwa Polskiego w Choszcznie
URL:https://choszczno.pl/kalendarz-wydarzen/11-00-xxiii-piknik-kolarski-feliksa/
END:VEVENT
BEGIN:VEVENT
DTSTART;TZID=Europe/Warsaw:20220904T130000
DTEND;TZID=Europe/Warsaw:20220904T143000
DTSTAMP:20260422T141512
CREATED:20220902T101526Z
LAST-MODIFIED:20220902T103351Z
UID:24905-1662296400-1662301800@choszczno.pl
SUMMARY:13.00 - mecz piłkarski Gavia Choszczno - Mechanik Babolice
DESCRIPTION:stadion miejski w Choszcznie
URL:https://choszczno.pl/kalendarz-wydarzen/13-00-mecz-pilkarski-gavia-choszczno-mechanik-babolice/
END:VEVENT
END:VCALENDAR