BEGIN:VCALENDAR
VERSION:2.0
PRODID:-//Oficjalna strona Urzędu Miejskiego w Choszcznie - ECPv6.15.20//NONSGML v1.0//EN
CALSCALE:GREGORIAN
METHOD:PUBLISH
X-WR-CALNAME:Oficjalna strona Urzędu Miejskiego w Choszcznie
X-ORIGINAL-URL:https://choszczno.pl
X-WR-CALDESC:Wydarzenia dla Oficjalna strona Urzędu Miejskiego w Choszcznie
REFRESH-INTERVAL;VALUE=DURATION:PT1H
X-Robots-Tag:noindex
X-PUBLISHED-TTL:PT1H
BEGIN:VTIMEZONE
TZID:Europe/Warsaw
BEGIN:DAYLIGHT
TZOFFSETFROM:+0100
TZOFFSETTO:+0200
TZNAME:CEST
DTSTART:20240331T010000
END:DAYLIGHT
BEGIN:STANDARD
TZOFFSETFROM:+0200
TZOFFSETTO:+0100
TZNAME:CET
DTSTART:20241027T010000
END:STANDARD
BEGIN:DAYLIGHT
TZOFFSETFROM:+0100
TZOFFSETTO:+0200
TZNAME:CEST
DTSTART:20250330T010000
END:DAYLIGHT
BEGIN:STANDARD
TZOFFSETFROM:+0200
TZOFFSETTO:+0100
TZNAME:CET
DTSTART:20251026T010000
END:STANDARD
BEGIN:DAYLIGHT
TZOFFSETFROM:+0100
TZOFFSETTO:+0200
TZNAME:CEST
DTSTART:20260329T010000
END:DAYLIGHT
BEGIN:STANDARD
TZOFFSETFROM:+0200
TZOFFSETTO:+0100
TZNAME:CET
DTSTART:20261025T010000
END:STANDARD
END:VTIMEZONE
BEGIN:VEVENT
DTSTART;TZID=Europe/Warsaw:20251107T000000
DTEND;TZID=Europe/Warsaw:20251107T235959
DTSTAMP:20260420T103212
CREATED:20251218T075725Z
LAST-MODIFIED:20251218T075726Z
UID:45116-1762473600-1762559999@choszczno.pl
SUMMARY:godz. 10.00 - 80-lecie Szkoły Podstawowej im. Jana Pawła II w Korytowie
DESCRIPTION:Szkoła Podstawowa w Korytowie
URL:https://choszczno.pl/kalendarz-wydarzen/godz-10-00-80-lecie-szkoly-podstawowej-im-jana-pawla-ii-w-korytowie/
END:VEVENT
END:VCALENDAR