BEGIN:VCALENDAR
VERSION:2.0
PRODID:-//Oficjalna strona Urzędu Miejskiego w Choszcznie - ECPv6.15.20//NONSGML v1.0//EN
CALSCALE:GREGORIAN
METHOD:PUBLISH
X-ORIGINAL-URL:https://choszczno.pl
X-WR-CALDESC:Wydarzenia dla Oficjalna strona Urzędu Miejskiego w Choszcznie
REFRESH-INTERVAL;VALUE=DURATION:PT1H
X-Robots-Tag:noindex
X-PUBLISHED-TTL:PT1H
BEGIN:VTIMEZONE
TZID:Europe/Warsaw
BEGIN:DAYLIGHT
TZOFFSETFROM:+0100
TZOFFSETTO:+0200
TZNAME:CEST
DTSTART:20240331T010000
END:DAYLIGHT
BEGIN:STANDARD
TZOFFSETFROM:+0200
TZOFFSETTO:+0100
TZNAME:CET
DTSTART:20241027T010000
END:STANDARD
BEGIN:DAYLIGHT
TZOFFSETFROM:+0100
TZOFFSETTO:+0200
TZNAME:CEST
DTSTART:20250330T010000
END:DAYLIGHT
BEGIN:STANDARD
TZOFFSETFROM:+0200
TZOFFSETTO:+0100
TZNAME:CET
DTSTART:20251026T010000
END:STANDARD
BEGIN:DAYLIGHT
TZOFFSETFROM:+0100
TZOFFSETTO:+0200
TZNAME:CEST
DTSTART:20260329T010000
END:DAYLIGHT
BEGIN:STANDARD
TZOFFSETFROM:+0200
TZOFFSETTO:+0100
TZNAME:CET
DTSTART:20261025T010000
END:STANDARD
END:VTIMEZONE
BEGIN:VEVENT
DTSTART;TZID=Europe/Warsaw:20251115T000000
DTEND;TZID=Europe/Warsaw:20251115T235959
DTSTAMP:20260420T163911
CREATED:20251218T081140Z
LAST-MODIFIED:20251218T081141Z
UID:45126-1763164800-1763251199@choszczno.pl
SUMMARY:godz. 9.00 - Ogólnopolski Turniej Badmintona IX Memoriał Wiesława Drewicza "Wieśkowe Lotki"
DESCRIPTION:Hala sportowa Zespołu Szkół nr 2 w Choszcznie
URL:https://choszczno.pl/kalendarz-wydarzen/godz-9-00-ogolnopolski-turniej-badmintona-ix-memorial-wieslawa-drewicza-wieskowe-lotki/
END:VEVENT
BEGIN:VEVENT
DTSTART;TZID=Europe/Warsaw:20251115T000000
DTEND;TZID=Europe/Warsaw:20251115T235959
DTSTAMP:20260420T163911
CREATED:20251218T082118Z
LAST-MODIFIED:20251218T082119Z
UID:45130-1763164800-1763251199@choszczno.pl
SUMMARY:godz. 16.00 - Senioriada
DESCRIPTION:Hala sportowa przy Szkole Podstawowej nr 1 w Choszcznie
URL:https://choszczno.pl/kalendarz-wydarzen/godz-16-00-senioriada/
ATTACH;FMTTYPE=image/jpeg:https://choszczno.pl/wp-content/uploads/2025/12/577599623_122156222978781206_7737801971754216863_n.jpg
END:VEVENT
END:VCALENDAR