BEGIN:VCALENDAR
VERSION:2.0
PRODID:-//Oficjalna strona Urzędu Miejskiego w Choszcznie - ECPv6.15.20//NONSGML v1.0//EN
CALSCALE:GREGORIAN
METHOD:PUBLISH
X-ORIGINAL-URL:https://choszczno.pl
X-WR-CALDESC:Wydarzenia dla Oficjalna strona Urzędu Miejskiego w Choszcznie
REFRESH-INTERVAL;VALUE=DURATION:PT1H
X-Robots-Tag:noindex
X-PUBLISHED-TTL:PT1H
BEGIN:VTIMEZONE
TZID:Europe/Warsaw
BEGIN:DAYLIGHT
TZOFFSETFROM:+0100
TZOFFSETTO:+0200
TZNAME:CEST
DTSTART:20250330T010000
END:DAYLIGHT
BEGIN:STANDARD
TZOFFSETFROM:+0200
TZOFFSETTO:+0100
TZNAME:CET
DTSTART:20251026T010000
END:STANDARD
BEGIN:DAYLIGHT
TZOFFSETFROM:+0100
TZOFFSETTO:+0200
TZNAME:CEST
DTSTART:20260329T010000
END:DAYLIGHT
BEGIN:STANDARD
TZOFFSETFROM:+0200
TZOFFSETTO:+0100
TZNAME:CET
DTSTART:20261025T010000
END:STANDARD
BEGIN:DAYLIGHT
TZOFFSETFROM:+0100
TZOFFSETTO:+0200
TZNAME:CEST
DTSTART:20270328T010000
END:DAYLIGHT
BEGIN:STANDARD
TZOFFSETFROM:+0200
TZOFFSETTO:+0100
TZNAME:CET
DTSTART:20271031T010000
END:STANDARD
END:VTIMEZONE
BEGIN:VEVENT
DTSTART;TZID=Europe/Warsaw:20260218T000000
DTEND;TZID=Europe/Warsaw:20260218T235959
DTSTAMP:20260420T133551
CREATED:20260206T063344Z
LAST-MODIFIED:20260206T063345Z
UID:46700-1771372800-1771459199@choszczno.pl
SUMMARY:17:00 Paweł Reszka w rozmowie z Joanną Skonieczną OBLICZA WOJNY DWUDZIESTEGO PIERWSZEGO WIEKU
DESCRIPTION:Miejska Biblioteka Publiczna im. Marii Dąbrowskiej
URL:https://choszczno.pl/kalendarz-wydarzen/1700-pawel-reszka-w-rozmowie-z-joanna-skonieczna-oblicza-wojny-dwudziestego-pierwszego-wieku/
ATTACH;FMTTYPE=image/jpeg:https://choszczno.pl/wp-content/uploads/2026/02/biblioteka-18.02.jpg
END:VEVENT
END:VCALENDAR