BEGIN:VCALENDAR
VERSION:2.0
PRODID:-//Oficjalna strona Urzędu Miejskiego w Choszcznie - ECPv6.15.20//NONSGML v1.0//EN
CALSCALE:GREGORIAN
METHOD:PUBLISH
X-WR-CALNAME:Oficjalna strona Urzędu Miejskiego w Choszcznie
X-ORIGINAL-URL:https://choszczno.pl
X-WR-CALDESC:Wydarzenia dla Oficjalna strona Urzędu Miejskiego w Choszcznie
REFRESH-INTERVAL;VALUE=DURATION:PT1H
X-Robots-Tag:noindex
X-PUBLISHED-TTL:PT1H
BEGIN:VTIMEZONE
TZID:Europe/Warsaw
BEGIN:DAYLIGHT
TZOFFSETFROM:+0100
TZOFFSETTO:+0200
TZNAME:CEST
DTSTART:20250330T010000
END:DAYLIGHT
BEGIN:STANDARD
TZOFFSETFROM:+0200
TZOFFSETTO:+0100
TZNAME:CET
DTSTART:20251026T010000
END:STANDARD
BEGIN:DAYLIGHT
TZOFFSETFROM:+0100
TZOFFSETTO:+0200
TZNAME:CEST
DTSTART:20260329T010000
END:DAYLIGHT
BEGIN:STANDARD
TZOFFSETFROM:+0200
TZOFFSETTO:+0100
TZNAME:CET
DTSTART:20261025T010000
END:STANDARD
BEGIN:DAYLIGHT
TZOFFSETFROM:+0100
TZOFFSETTO:+0200
TZNAME:CEST
DTSTART:20270328T010000
END:DAYLIGHT
BEGIN:STANDARD
TZOFFSETFROM:+0200
TZOFFSETTO:+0100
TZNAME:CET
DTSTART:20271031T010000
END:STANDARD
END:VTIMEZONE
BEGIN:VEVENT
DTSTART;TZID=Europe/Warsaw:20260219T000000
DTEND;TZID=Europe/Warsaw:20260219T235959
DTSTAMP:20260420T120723
CREATED:20260128T064624Z
LAST-MODIFIED:20260128T064625Z
UID:46573-1771459200-1771545599@choszczno.pl
SUMMARY:17:00 PRACA WIĘŹNIÓW OBOZÓW KONCENTRACYJNYCH A ROZWÓJ GOSPODARKI III RZESZY
DESCRIPTION:Miejska Biblioteka Publiczna im. Marii Dąbrowskiej w Choszcznie
URL:https://choszczno.pl/kalendarz-wydarzen/1700-praca-wiezniow-obozow-koncentracyjnych-a-rozwoj-gospodarki-iii-rzeszy/
ATTACH;FMTTYPE=image/jpeg:https://choszczno.pl/wp-content/uploads/2026/01/19-luty-1.jpg
END:VEVENT
END:VCALENDAR