BEGIN:VCALENDAR
VERSION:2.0
PRODID:-//Oficjalna strona Urzędu Miejskiego w Choszcznie - ECPv6.15.20//NONSGML v1.0//EN
CALSCALE:GREGORIAN
METHOD:PUBLISH
X-WR-CALNAME:Oficjalna strona Urzędu Miejskiego w Choszcznie
X-ORIGINAL-URL:https://choszczno.pl
X-WR-CALDESC:Wydarzenia dla Oficjalna strona Urzędu Miejskiego w Choszcznie
REFRESH-INTERVAL;VALUE=DURATION:PT1H
X-Robots-Tag:noindex
X-PUBLISHED-TTL:PT1H
BEGIN:VTIMEZONE
TZID:Europe/Warsaw
BEGIN:DAYLIGHT
TZOFFSETFROM:+0100
TZOFFSETTO:+0200
TZNAME:CEST
DTSTART:20250330T010000
END:DAYLIGHT
BEGIN:STANDARD
TZOFFSETFROM:+0200
TZOFFSETTO:+0100
TZNAME:CET
DTSTART:20251026T010000
END:STANDARD
BEGIN:DAYLIGHT
TZOFFSETFROM:+0100
TZOFFSETTO:+0200
TZNAME:CEST
DTSTART:20260329T010000
END:DAYLIGHT
BEGIN:STANDARD
TZOFFSETFROM:+0200
TZOFFSETTO:+0100
TZNAME:CET
DTSTART:20261025T010000
END:STANDARD
BEGIN:DAYLIGHT
TZOFFSETFROM:+0100
TZOFFSETTO:+0200
TZNAME:CEST
DTSTART:20270328T010000
END:DAYLIGHT
BEGIN:STANDARD
TZOFFSETFROM:+0200
TZOFFSETTO:+0100
TZNAME:CET
DTSTART:20271031T010000
END:STANDARD
END:VTIMEZONE
BEGIN:VEVENT
DTSTART;TZID=Europe/Warsaw:20260319T000000
DTEND;TZID=Europe/Warsaw:20260319T235959
DTSTAMP:20260420T105208
CREATED:20260310T082756Z
LAST-MODIFIED:20260310T082757Z
UID:47324-1773878400-1773964799@choszczno.pl
SUMMARY:godz. 17.00 - Spotkanie z fizjoterapeutą Karolem Trafnym
DESCRIPTION:Miejska Biblioteka Publiczna w Choszcznie
URL:https://choszczno.pl/kalendarz-wydarzen/godz-17-00-spotkanie-z-fizjoterapeuta-karolem-trafnym/
ATTACH;FMTTYPE=image/jpeg:https://choszczno.pl/wp-content/uploads/2026/03/642412987_1493130022823246_6680445024514196279_n.jpg
END:VEVENT
END:VCALENDAR